BEGIN:VCALENDAR
VERSION:2.0
PRODID:-//Village of St. Anne, IL - ECPv6.15.17.1//NONSGML v1.0//EN
CALSCALE:GREGORIAN
METHOD:PUBLISH
X-WR-CALNAME:Village of St. Anne, IL
X-ORIGINAL-URL:https://villageofstanne.com
X-WR-CALDESC:Events for Village of St. Anne, IL
REFRESH-INTERVAL;VALUE=DURATION:PT1H
X-Robots-Tag:noindex
X-PUBLISHED-TTL:PT1H
BEGIN:VTIMEZONE
TZID:UTC
BEGIN:STANDARD
TZOFFSETFROM:+0000
TZOFFSETTO:+0000
TZNAME:UTC
DTSTART:20230101T000000
END:STANDARD
END:VTIMEZONE
BEGIN:VEVENT
DTSTART;TZID=UTC:20240626T130000
DTEND;TZID=UTC:20240626T150000
DTSTAMP:20260425T103918
CREATED:20240605T151125Z
LAST-MODIFIED:20240605T151210Z
UID:2515-1719406800-1719414000@villageofstanne.com
SUMMARY:Summer Craft Day for Kids
DESCRIPTION:More Information
URL:https://villageofstanne.com/event/summer-craft-day-for-kids/
LOCATION:St. Anne Commuy Park\, 220 N Second Ave\, St. Anne\, IL\, 60964\, United States
CATEGORIES:Community Event
ATTACH;FMTTYPE=image/jpeg:https://villageofstanne.com/wp-content/uploads/2024/06/Craft-Day-2.jpg
END:VEVENT
END:VCALENDAR