BEGIN:VCALENDAR
VERSION:2.0
PRODID:-//Village of St. Anne, IL - ECPv6.15.17.1//NONSGML v1.0//EN
CALSCALE:GREGORIAN
METHOD:PUBLISH
X-ORIGINAL-URL:https://villageofstanne.com
X-WR-CALDESC:Events for Village of St. Anne, IL
REFRESH-INTERVAL;VALUE=DURATION:PT1H
X-Robots-Tag:noindex
X-PUBLISHED-TTL:PT1H
BEGIN:VTIMEZONE
TZID:UTC
BEGIN:STANDARD
TZOFFSETFROM:+0000
TZOFFSETTO:+0000
TZNAME:UTC
DTSTART:20240101T000000
END:STANDARD
END:VTIMEZONE
BEGIN:VEVENT
DTSTART;VALUE=DATE:20250815
DTEND;VALUE=DATE:20250817
DTSTAMP:20260424T081341
CREATED:20250501T150947Z
LAST-MODIFIED:20250501T150947Z
UID:2911-1755216000-1755388799@villageofstanne.com
SUMMARY:Community Garage Sales
DESCRIPTION:The St. Anne community garage sale is taking place on May 30th – 31st and August 15th-16th. This year\, there will be no fees or maps\, but information will be posted on Facebook and the Village of St. Anne website\, as well as the event calendar.
URL:https://villageofstanne.com/event/community-garage-sales-4/
LOCATION:IL
CATEGORIES:Community Event
ATTACH;FMTTYPE=image/jpeg:https://villageofstanne.com/wp-content/uploads/2025/05/GARAGE-SALE-PACEBOOK-3.jpg
END:VEVENT
END:VCALENDAR