BEGIN:VCALENDAR
VERSION:2.0
PRODID:-//Village of St. Anne, IL - ECPv6.15.17.1//NONSGML v1.0//EN
CALSCALE:GREGORIAN
METHOD:PUBLISH
X-ORIGINAL-URL:https://villageofstanne.com
X-WR-CALDESC:Events for Village of St. Anne, IL
REFRESH-INTERVAL;VALUE=DURATION:PT1H
X-Robots-Tag:noindex
X-PUBLISHED-TTL:PT1H
BEGIN:VTIMEZONE
TZID:UTC
BEGIN:STANDARD
TZOFFSETFROM:+0000
TZOFFSETTO:+0000
TZNAME:UTC
DTSTART:20220101T000000
END:STANDARD
END:VTIMEZONE
BEGIN:VEVENT
DTSTART;TZID=UTC:20231217T180000
DTEND;TZID=UTC:20231217T200000
DTSTAMP:20260423T223317
CREATED:20231213T151109Z
LAST-MODIFIED:20231213T151144Z
UID:2042-1702836000-1702843200@villageofstanne.com
SUMMARY:Blue Christmas Service
DESCRIPTION:Please join us\, this coming Sunday\, December 17th at 6:00pm for our Blue Christmas Service. This Service is held in honor of our loved ones who are no longer with us during the Christmas season.\nFinger foods and refreshments will be served following the Service and the community is welcome! If you know anyone who has loved ones they’d like to honor\, please share an invite with them. We look forward to honoring your loved ones with you!
URL:https://villageofstanne.com/event/blue-christmas-service/
LOCATION:First Presbyterian Church\, 334 S. St. Louis Ave\, St. Anne\, IL\, 60964
CATEGORIES:Community Event
END:VEVENT
BEGIN:VEVENT
DTSTART;TZID=UTC:20231210T160000
DTEND;TZID=UTC:20231210T160000
DTSTAMP:20260423T223317
CREATED:20231116T160241Z
LAST-MODIFIED:20231116T161058Z
UID:1987-1702224000-1702224000@villageofstanne.com
SUMMARY:Christmas Parade/Celebration
DESCRIPTION:Christmas Parade Celebration \nHAVE A HOLLY JOLLY CHRISTMAS\nADD THIS FUN FILLED NIGHT TO YOUR CALENDAR–DEC. 10th.\n4:15 Bundle up and Line up for the parade at the Presbyterian Church\nWhatever your mode of joining the parade-\n Don’t forget to add Twinkling Lights and Jingle Bells\n4:30 The Light Parade with Santa on the Fire Truck\n5:00 Christmas Tree Lighting at the Village Hall\nAND\, OF COURSE\, NEVER PASS UP A CHANCE TO\nVISIT SANTA AT THE FIRE STATION\n(following light ceremony)
URL:https://villageofstanne.com/event/christmas-parade/
LOCATION:First Presbyterian Church\, 334 S. St. Louis Ave\, St. Anne\, IL\, 60964
CATEGORIES:Community Event
END:VEVENT
BEGIN:VEVENT
DTSTART;TZID=UTC:20231202T113000
DTEND;TZID=UTC:20231202T133000
DTSTAMP:20260423T223317
CREATED:20231116T161134Z
LAST-MODIFIED:20231116T161630Z
UID:1996-1701516600-1701523800@villageofstanne.com
SUMMARY:Christmas Kid's Craft Day
DESCRIPTION:2nd Annual\nChristmas Kid’s Craft Day\nPolice Dept. Free Hot Dog Lunch\nDecember 2\, 2023–11:30-1:30\nCIVIC CENTER\nKids will have a chance to make a variety of adorable crafts and write a Christmas greeting to the troops. \n***ALL CRAFTS & LUNCH ARE FREE\nBUT WE WILL BE COLLECTING NON-PERISHABLES FOR OUR LOCAL FOOD PANTRY***
URL:https://villageofstanne.com/event/christmas-kids-craft-day/
LOCATION:St. Anne Civic Center\, 122 S. Chicago Ave\, St. Anne\, IL\, 60964
CATEGORIES:Community Event
END:VEVENT
BEGIN:VEVENT
DTSTART;TZID=UTC:20231128T173000
DTEND;TZID=UTC:20231128T173000
DTSTAMP:20260423T223317
CREATED:20231116T162121Z
LAST-MODIFIED:20231116T162137Z
UID:2000-1701192600-1701192600@villageofstanne.com
SUMMARY:Community Blood Drive
DESCRIPTION:
URL:https://villageofstanne.com/event/community-blood-drive/
LOCATION:St. Anne Parish Hall\, 230 N Sixth Ave\, St. Anne\, IL\, 60964
CATEGORIES:Community Event
END:VEVENT
END:VCALENDAR