BEGIN:VCALENDAR
VERSION:2.0
PRODID:-//Village of St. Anne, IL - ECPv6.15.17.1//NONSGML v1.0//EN
CALSCALE:GREGORIAN
METHOD:PUBLISH
X-ORIGINAL-URL:https://villageofstanne.com
X-WR-CALDESC:Events for Village of St. Anne, IL
REFRESH-INTERVAL;VALUE=DURATION:PT1H
X-Robots-Tag:noindex
X-PUBLISHED-TTL:PT1H
BEGIN:VTIMEZONE
TZID:UTC
BEGIN:STANDARD
TZOFFSETFROM:+0000
TZOFFSETTO:+0000
TZNAME:UTC
DTSTART:20220101T000000
END:STANDARD
END:VTIMEZONE
BEGIN:VEVENT
DTSTART;VALUE=DATE:20240331
DTEND;VALUE=DATE:20240401
DTSTAMP:20260424T040343
CREATED:20240116T202436Z
LAST-MODIFIED:20240226T172935Z
UID:2160-1711843200-1711929599@villageofstanne.com
SUMMARY:Easter Sunday
DESCRIPTION:
URL:https://villageofstanne.com/event/easter-sunday/
LOCATION:IL
CATEGORIES:General Information
END:VEVENT
BEGIN:VEVENT
DTSTART;TZID=UTC:20240319T060000
DTEND;TZID=UTC:20240319T190000
DTSTAMP:20260424T040343
CREATED:20240226T172413Z
LAST-MODIFIED:20240226T172806Z
UID:2316-1710828000-1710874800@villageofstanne.com
SUMMARY:Election Day
DESCRIPTION:General Primary Election\nThis is the election for the School District Consolidation. \nMore Information
URL:https://villageofstanne.com/event/election-day-2/
LOCATION:First Presbyterian Church\, 334 S. St. Louis Ave\, St. Anne\, IL\, 60964
CATEGORIES:General Information
END:VEVENT
BEGIN:VEVENT
DTSTART;TZID=UTC:20240310T020000
DTEND;TZID=UTC:20240310T020000
DTSTAMP:20260424T040343
CREATED:20240226T171659Z
LAST-MODIFIED:20240226T173045Z
UID:2313-1710036000-1710036000@villageofstanne.com
SUMMARY:Spring Ahead
DESCRIPTION:Daylight Saving Time 2024 starts on Sunday\, March 10\, at 2 a.m.\, when we “spring forward.” For most people\, that means “losing” an hour of sleep as that Sunday will technically be a 23-hour day. \nDigital devices\, including computers\, TVs and cell phones\, will automatically update to the new time at 2 a.m.\, but any other clocks should be manually changed on the night of Saturday\, March 9\, turning them ahead a full hour.
URL:https://villageofstanne.com/event/spring-ahead/
LOCATION:IL
CATEGORIES:General Information
END:VEVENT
BEGIN:VEVENT
DTSTART;VALUE=DATE:20231225
DTEND;VALUE=DATE:20231226
DTSTAMP:20260424T040343
CREATED:20231213T151823Z
LAST-MODIFIED:20231213T151823Z
UID:2053-1703462400-1703548799@villageofstanne.com
SUMMARY:Village Hall Closed
DESCRIPTION:
URL:https://villageofstanne.com/event/village-hall-closed-2/
LOCATION:IL
CATEGORIES:General Information
END:VEVENT
BEGIN:VEVENT
DTSTART;VALUE=DATE:20231225
DTEND;VALUE=DATE:20231226
DTSTAMP:20260424T040343
CREATED:20231213T151551Z
LAST-MODIFIED:20231213T151757Z
UID:2047-1703462400-1703548799@villageofstanne.com
SUMMARY:Christmas Day
DESCRIPTION:
URL:https://villageofstanne.com/event/village-hall-closed/
LOCATION:Village Hall\, 190 W Station St\, St. Anne\, IL\, 60964
CATEGORIES:General Information
END:VEVENT
END:VCALENDAR