BEGIN:VCALENDAR
VERSION:2.0
PRODID:-//Village of St. Anne, IL - ECPv6.15.17.1//NONSGML v1.0//EN
CALSCALE:GREGORIAN
METHOD:PUBLISH
X-WR-CALNAME:Village of St. Anne, IL
X-ORIGINAL-URL:https://villageofstanne.com
X-WR-CALDESC:Events for Village of St. Anne, IL
REFRESH-INTERVAL;VALUE=DURATION:PT1H
X-Robots-Tag:noindex
X-PUBLISHED-TTL:PT1H
BEGIN:VTIMEZONE
TZID:UTC
BEGIN:STANDARD
TZOFFSETFROM:+0000
TZOFFSETTO:+0000
TZNAME:UTC
DTSTART:20230101T000000
END:STANDARD
END:VTIMEZONE
BEGIN:VEVENT
DTSTART;TZID=UTC:20241111T180000
DTEND;TZID=UTC:20241111T200000
DTSTAMP:20260425T013650
CREATED:20241101T150900Z
LAST-MODIFIED:20241101T150900Z
UID:2666-1731348000-1731355200@villageofstanne.com
SUMMARY:Village Board Meeting
DESCRIPTION:Village Board Meeting
URL:https://villageofstanne.com/event/village-board-meeting-9/
LOCATION:Village Hall\, 190 W Station St\, St. Anne\, IL\, 60964
CATEGORIES:Meeting
END:VEVENT
END:VCALENDAR