BEGIN:VCALENDAR
VERSION:2.0
PRODID:-//Village of St. Anne, IL - ECPv6.15.17.1//NONSGML v1.0//EN
CALSCALE:GREGORIAN
METHOD:PUBLISH
X-WR-CALNAME:Village of St. Anne, IL
X-ORIGINAL-URL:https://villageofstanne.com
X-WR-CALDESC:Events for Village of St. Anne, IL
REFRESH-INTERVAL;VALUE=DURATION:PT1H
X-Robots-Tag:noindex
X-PUBLISHED-TTL:PT1H
BEGIN:VTIMEZONE
TZID:UTC
BEGIN:STANDARD
TZOFFSETFROM:+0000
TZOFFSETTO:+0000
TZNAME:UTC
DTSTART:20230101T000000
END:STANDARD
END:VTIMEZONE
BEGIN:VEVENT
DTSTART;TZID=UTC:20240312T173000
DTEND;TZID=UTC:20240312T193000
DTSTAMP:20260425T154609
CREATED:20240122T195331Z
LAST-MODIFIED:20240122T195331Z
UID:2217-1710264600-1710271800@villageofstanne.com
SUMMARY:School Consolidation Town Hall Meeting
DESCRIPTION:
URL:https://villageofstanne.com/event/school-consolidation-town-hall-meeting/
LOCATION:St. Anne High School\, 650 W Guertin St\, St. Anne\, IL\, 60964\, United States
CATEGORIES:Meeting
END:VEVENT
END:VCALENDAR