BEGIN:VCALENDAR
VERSION:2.0
PRODID:-//Village of St. Anne, IL - ECPv6.15.17.1//NONSGML v1.0//EN
CALSCALE:GREGORIAN
METHOD:PUBLISH
X-ORIGINAL-URL:https://villageofstanne.com
X-WR-CALDESC:Events for Village of St. Anne, IL
REFRESH-INTERVAL;VALUE=DURATION:PT1H
X-Robots-Tag:noindex
X-PUBLISHED-TTL:PT1H
BEGIN:VTIMEZONE
TZID:UTC
BEGIN:STANDARD
TZOFFSETFROM:+0000
TZOFFSETTO:+0000
TZNAME:UTC
DTSTART:20240101T000000
END:STANDARD
END:VTIMEZONE
BEGIN:VEVENT
DTSTART;TZID=UTC:20250502T150000
DTEND;TZID=UTC:20250502T180000
DTSTAMP:20260425T144609
CREATED:20250501T145415Z
LAST-MODIFIED:20250501T152404Z
UID:2900-1746198000-1746208800@villageofstanne.com
SUMMARY:St. Anne FFA Spring Plant Sale
DESCRIPTION:
URL:https://villageofstanne.com/event/st-anne-ffa-spring-plant-sale-2/
LOCATION:St. Anne High School\, 650 W Guertin St\, St. Anne\, IL\, 60964\, United States
CATEGORIES:Community Event
END:VEVENT
BEGIN:VEVENT
DTSTART;TZID=UTC:20250503T080000
DTEND;TZID=UTC:20250503T120000
DTSTAMP:20260425T144609
CREATED:20250501T145512Z
LAST-MODIFIED:20250501T152334Z
UID:2902-1746259200-1746273600@villageofstanne.com
SUMMARY:St. Anne FFA Spring Plant Sale
DESCRIPTION:\
URL:https://villageofstanne.com/event/st-anne-ffa-spring-plant-sale-3/
LOCATION:St. Anne High School\, 650 W Guertin St\, St. Anne\, IL\, 60964\, United States
CATEGORIES:Community Event
END:VEVENT
BEGIN:VEVENT
DTSTART;VALUE=DATE:20250530
DTEND;VALUE=DATE:20250601
DTSTAMP:20260425T144609
CREATED:20250501T150816Z
LAST-MODIFIED:20250501T150816Z
UID:2909-1748563200-1748735999@villageofstanne.com
SUMMARY:Community Garage Sales
DESCRIPTION:The St. Anne community garage sale is taking place on May 30th – 31st and August 15th-16th. This year\, there will be no fees or maps\, but information will be posted on Facebook and the Village of St. Anne website\, as well as the event calendar.
URL:https://villageofstanne.com/event/community-garage-sales-3/
LOCATION:Village Hall\, 190 W Station St\, St. Anne\, IL\, 60964
CATEGORIES:Community Event
ATTACH;FMTTYPE=image/jpeg:https://villageofstanne.com/wp-content/uploads/2025/05/GARAGE-SALE-PACEBOOK-3.jpg
END:VEVENT
BEGIN:VEVENT
DTSTART;VALUE=DATE:20250815
DTEND;VALUE=DATE:20250817
DTSTAMP:20260425T144609
CREATED:20250501T150947Z
LAST-MODIFIED:20250501T150947Z
UID:2911-1755216000-1755388799@villageofstanne.com
SUMMARY:Community Garage Sales
DESCRIPTION:The St. Anne community garage sale is taking place on May 30th – 31st and August 15th-16th. This year\, there will be no fees or maps\, but information will be posted on Facebook and the Village of St. Anne website\, as well as the event calendar.
URL:https://villageofstanne.com/event/community-garage-sales-4/
CATEGORIES:Community Event
ATTACH;FMTTYPE=image/jpeg:https://villageofstanne.com/wp-content/uploads/2025/05/GARAGE-SALE-PACEBOOK-3.jpg
END:VEVENT
BEGIN:VEVENT
DTSTART;TZID=UTC:20260420T170000
DTEND;TZID=UTC:20260420T180000
DTSTAMP:20260425T144609
CREATED:20260414T163453Z
LAST-MODIFIED:20260414T163453Z
UID:3107-1776704400-1776708000@villageofstanne.com
SUMMARY:Street Scape Public Open House #2
DESCRIPTION:Thanks to all who joined us ar Public Meeting #1.  Based on your feedback\, the design team will present a preferred streetscape plan for review and comment.
URL:https://villageofstanne.com/event/street-scape-public-open-house-2/
LOCATION:St. Anne Civic Center\, 122 S. Chicago Ave\, St. Anne\, IL\, 60964
END:VEVENT
BEGIN:VEVENT
DTSTART;TZID=UTC:20260420T180000
DTEND;TZID=UTC:20260420T200000
DTSTAMP:20260425T144609
CREATED:20260414T163720Z
LAST-MODIFIED:20260414T163720Z
UID:3109-1776708000-1776715200@villageofstanne.com
SUMMARY:Village Board Meeting
DESCRIPTION:Village Board Meeting
URL:https://villageofstanne.com/event/village-board-meeting-10/
LOCATION:St. Anne Civic Center\, 122 S. Chicago Ave\, St. Anne\, IL\, 60964
END:VEVENT
BEGIN:VEVENT
DTSTART;TZID=UTC:20260605T080000
DTEND;TZID=UTC:20260606T170000
DTSTAMP:20260425T144609
CREATED:20260417T160701Z
LAST-MODIFIED:20260417T161309Z
UID:3119-1780646400-1780765200@villageofstanne.com
SUMMARY:Community Garage Sales
DESCRIPTION:The St. Anne community garage sale is taking place on June 5th and 6th and August 7th and 8th. This year\, there will be no fees or maps\, but information will be posted on Facebook.
URL:https://villageofstanne.com/event/community-garage-sales-5/
LOCATION:St. Anne\, IL\, 190 W Station St\, St. Anne\, IL\, 60964\, United States
CATEGORIES:Community Event
END:VEVENT
BEGIN:VEVENT
DTSTART;TZID=UTC:20260807T080000
DTEND;TZID=UTC:20260808T170000
DTSTAMP:20260425T144609
CREATED:20260417T160826Z
LAST-MODIFIED:20260417T161245Z
UID:3121-1786089600-1786208400@villageofstanne.com
SUMMARY:Community Garage Sales
DESCRIPTION:The St. Anne community garage sale is taking place on June 5th and 6th and August 7th and 8th. This year\, there will be no fees or maps\, but information will be posted on Facebook.
URL:https://villageofstanne.com/event/community-garage-sales-6/
LOCATION:St. Anne\, IL\, 190 W Station St\, St. Anne\, IL\, 60964\, United States
CATEGORIES:Community Event
END:VEVENT
END:VCALENDAR