BEGIN:VCALENDAR
VERSION:2.0
PRODID:-//Village of St. Anne, IL - ECPv6.15.17.1//NONSGML v1.0//EN
CALSCALE:GREGORIAN
METHOD:PUBLISH
X-WR-CALNAME:Village of St. Anne, IL
X-ORIGINAL-URL:https://villageofstanne.com
X-WR-CALDESC:Events for Village of St. Anne, IL
REFRESH-INTERVAL;VALUE=DURATION:PT1H
X-Robots-Tag:noindex
X-PUBLISHED-TTL:PT1H
BEGIN:VTIMEZONE
TZID:UTC
BEGIN:STANDARD
TZOFFSETFROM:+0000
TZOFFSETTO:+0000
TZNAME:UTC
DTSTART:20220101T000000
END:STANDARD
END:VTIMEZONE
BEGIN:VEVENT
DTSTART;TZID=UTC:20240619T000000
DTEND;TZID=UTC:20240619T000000
DTSTAMP:20260423T211924
CREATED:20240116T202453Z
LAST-MODIFIED:20240116T202453Z
UID:2166-1718755200-1718755200@villageofstanne.com
SUMMARY:Juneteenth
DESCRIPTION:
URL:https://villageofstanne.com/event/juneteenth/
LOCATION:IL
END:VEVENT
BEGIN:VEVENT
DTSTART;TZID=UTC:20240616T000000
DTEND;TZID=UTC:20240616T000000
DTSTAMP:20260423T211924
CREATED:20240116T202451Z
LAST-MODIFIED:20240116T202451Z
UID:2165-1718496000-1718496000@villageofstanne.com
SUMMARY:Father's Day
DESCRIPTION:
URL:https://villageofstanne.com/event/fathers-day/
LOCATION:IL
END:VEVENT
BEGIN:VEVENT
DTSTART;TZID=UTC:20240613T180000
DTEND;TZID=UTC:20240613T210000
DTSTAMP:20260423T211924
CREATED:20240605T144745Z
LAST-MODIFIED:20240605T144953Z
UID:2500-1718301600-1718312400@villageofstanne.com
SUMMARY:Cruise Night
DESCRIPTION:Cruise Night Flyer
URL:https://villageofstanne.com/event/cruise-night/
LOCATION:St. Anne Commuy Park\, 220 N Second Ave\, St. Anne\, IL\, 60964\, United States
CATEGORIES:Community Event
END:VEVENT
BEGIN:VEVENT
DTSTART;TZID=UTC:20240610T180000
DTEND;TZID=UTC:20240610T200000
DTSTAMP:20260423T211924
CREATED:20240605T145234Z
LAST-MODIFIED:20240605T145234Z
UID:2503-1718042400-1718049600@villageofstanne.com
SUMMARY:Village Board Meeting
DESCRIPTION:
URL:https://villageofstanne.com/event/village-board-meeting-7/
LOCATION:Village Hall\, 190 W Station St\, St. Anne\, IL\, 60964
CATEGORIES:Meeting
END:VEVENT
BEGIN:VEVENT
DTSTART;TZID=UTC:20240530T080000
DTEND;TZID=UTC:20240601T170000
DTSTAMP:20260423T211924
CREATED:20240410T174603Z
LAST-MODIFIED:20240410T174647Z
UID:2417-1717056000-1717261200@villageofstanne.com
SUMMARY:Community Garage Sales
DESCRIPTION:Things are a little different this year for our annual garage sales.  There will be no fees collected\, and no maps printed or distributed.  We will however continue to post information on Facebook and our website.
URL:https://villageofstanne.com/event/community-garage-sales/
LOCATION:IL
CATEGORIES:Community Event
ATTACH;FMTTYPE=image/jpeg:https://villageofstanne.com/wp-content/uploads/2024/04/GARAGE-SALE-FACEBOOK.jpg
END:VEVENT
BEGIN:VEVENT
DTSTART;TZID=UTC:20240527T000000
DTEND;TZID=UTC:20240527T000000
DTSTAMP:20260423T211924
CREATED:20240116T202441Z
LAST-MODIFIED:20240116T202441Z
UID:2164-1716768000-1716768000@villageofstanne.com
SUMMARY:Memorial Day
DESCRIPTION:
URL:https://villageofstanne.com/event/memorial-day/
LOCATION:IL
END:VEVENT
BEGIN:VEVENT
DTSTART;TZID=UTC:20240512T000000
DTEND;TZID=UTC:20240512T000000
DTSTAMP:20260423T211924
CREATED:20240116T202440Z
LAST-MODIFIED:20240116T202440Z
UID:2163-1715472000-1715472000@villageofstanne.com
SUMMARY:Mother's Day
DESCRIPTION:
URL:https://villageofstanne.com/event/mothers-day/
LOCATION:IL
END:VEVENT
BEGIN:VEVENT
DTSTART;TZID=UTC:20240424T000000
DTEND;TZID=UTC:20240424T000000
DTSTAMP:20260423T211924
CREATED:20240116T202439Z
LAST-MODIFIED:20240116T202439Z
UID:2162-1713916800-1713916800@villageofstanne.com
SUMMARY:Administrative Professionals Day
DESCRIPTION:
URL:https://villageofstanne.com/event/administrative-professionals-day/
LOCATION:IL
END:VEVENT
BEGIN:VEVENT
DTSTART;TZID=UTC:20240415T000000
DTEND;TZID=UTC:20240415T000000
DTSTAMP:20260423T211924
CREATED:20240116T202438Z
LAST-MODIFIED:20240116T202438Z
UID:2161-1713139200-1713139200@villageofstanne.com
SUMMARY:Tax Day
DESCRIPTION:
URL:https://villageofstanne.com/event/tax-day/
LOCATION:IL
END:VEVENT
BEGIN:VEVENT
DTSTART;TZID=UTC:20240408T180000
DTEND;TZID=UTC:20240408T200000
DTSTAMP:20260423T211924
CREATED:20240321T162801Z
LAST-MODIFIED:20240321T162801Z
UID:2394-1712599200-1712606400@villageofstanne.com
SUMMARY:Village Board Meeting
DESCRIPTION:
URL:https://villageofstanne.com/event/village-board-meeting-6/
LOCATION:Village Hall\, 190 W Station St\, St. Anne\, IL\, 60964
END:VEVENT
BEGIN:VEVENT
DTSTART;VALUE=DATE:20240331
DTEND;VALUE=DATE:20240401
DTSTAMP:20260423T211924
CREATED:20240116T202436Z
LAST-MODIFIED:20240226T172935Z
UID:2160-1711843200-1711929599@villageofstanne.com
SUMMARY:Easter Sunday
DESCRIPTION:
URL:https://villageofstanne.com/event/easter-sunday/
LOCATION:IL
CATEGORIES:General Information
END:VEVENT
BEGIN:VEVENT
DTSTART;TZID=UTC:20240323T110000
DTEND;TZID=UTC:20240323T130000
DTSTAMP:20260423T211924
CREATED:20240226T163057Z
LAST-MODIFIED:20240321T132509Z
UID:2307-1711191600-1711198800@villageofstanne.com
SUMMARY:Annual Easter Egg Hunt
DESCRIPTION:
URL:https://villageofstanne.com/event/annual-easter-egg-hunt/
LOCATION:St. Annne Grade School\, 333 S St. Louis Ave\, St. Anne\, IL\, 60964\, United States
CATEGORIES:Community Event
END:VEVENT
BEGIN:VEVENT
DTSTART;TZID=UTC:20240320T120000
DTEND;TZID=UTC:20240320T173000
DTSTAMP:20260423T211924
CREATED:20240306T214139Z
LAST-MODIFIED:20240306T214139Z
UID:2347-1710936000-1710955800@villageofstanne.com
SUMMARY:Community Blood Drive
DESCRIPTION:
URL:https://villageofstanne.com/event/community-blood-drive-2/
LOCATION:St. Anne High School\, 650 W Guertin St\, St. Anne\, IL\, 60964\, United States
CATEGORIES:Community Event
ATTACH;FMTTYPE=image/jpeg:https://villageofstanne.com/wp-content/uploads/2024/03/Facebook-Event-Blood-Drive-Made-with-PosterMyWall.jpg
END:VEVENT
BEGIN:VEVENT
DTSTART;TZID=UTC:20240319T060000
DTEND;TZID=UTC:20240319T190000
DTSTAMP:20260423T211924
CREATED:20240226T172413Z
LAST-MODIFIED:20240226T172806Z
UID:2316-1710828000-1710874800@villageofstanne.com
SUMMARY:Election Day
DESCRIPTION:General Primary Election\nThis is the election for the School District Consolidation. \nMore Information
URL:https://villageofstanne.com/event/election-day-2/
LOCATION:First Presbyterian Church\, 334 S. St. Louis Ave\, St. Anne\, IL\, 60964
CATEGORIES:General Information
END:VEVENT
BEGIN:VEVENT
DTSTART;TZID=UTC:20240317T000000
DTEND;TZID=UTC:20240317T000000
DTSTAMP:20260423T211924
CREATED:20240116T202433Z
LAST-MODIFIED:20240116T202433Z
UID:2159-1710633600-1710633600@villageofstanne.com
SUMMARY:St. Patrick's Day
DESCRIPTION:
URL:https://villageofstanne.com/event/st-patricks-day/
LOCATION:IL
END:VEVENT
BEGIN:VEVENT
DTSTART;TZID=UTC:20240315T170000
DTEND;TZID=UTC:20240315T190000
DTSTAMP:20260423T211924
CREATED:20240116T193139Z
LAST-MODIFIED:20240116T193139Z
UID:2145-1710522000-1710529200@villageofstanne.com
SUMMARY:Fish Fry
DESCRIPTION:St. Anne Catholic Church Fish Fry
URL:https://villageofstanne.com/event/fish-fry-3/
LOCATION:St. Anne Parish Hall\, 230 N Sixth Ave\, St. Anne\, IL\, 60964
END:VEVENT
BEGIN:VEVENT
DTSTART;TZID=UTC:20240312T173000
DTEND;TZID=UTC:20240312T193000
DTSTAMP:20260423T211924
CREATED:20240122T195331Z
LAST-MODIFIED:20240122T195331Z
UID:2217-1710264600-1710271800@villageofstanne.com
SUMMARY:School Consolidation Town Hall Meeting
DESCRIPTION:
URL:https://villageofstanne.com/event/school-consolidation-town-hall-meeting/
LOCATION:St. Anne High School\, 650 W Guertin St\, St. Anne\, IL\, 60964\, United States
CATEGORIES:Meeting
END:VEVENT
BEGIN:VEVENT
DTSTART;TZID=UTC:20240311T180000
DTEND;TZID=UTC:20240311T200000
DTSTAMP:20260423T211924
CREATED:20240221T214042Z
LAST-MODIFIED:20240226T171826Z
UID:2292-1710180000-1710187200@villageofstanne.com
SUMMARY:Village Board Meeting
DESCRIPTION:
URL:https://villageofstanne.com/event/village-board-meeting-5/
LOCATION:Village Hall\, 190 W Station St\, St. Anne\, IL\, 60964
CATEGORIES:Meeting
END:VEVENT
BEGIN:VEVENT
DTSTART;TZID=UTC:20240310T020000
DTEND;TZID=UTC:20240310T020000
DTSTAMP:20260423T211924
CREATED:20240226T171659Z
LAST-MODIFIED:20240226T173045Z
UID:2313-1710036000-1710036000@villageofstanne.com
SUMMARY:Spring Ahead
DESCRIPTION:Daylight Saving Time 2024 starts on Sunday\, March 10\, at 2 a.m.\, when we “spring forward.” For most people\, that means “losing” an hour of sleep as that Sunday will technically be a 23-hour day. \nDigital devices\, including computers\, TVs and cell phones\, will automatically update to the new time at 2 a.m.\, but any other clocks should be manually changed on the night of Saturday\, March 9\, turning them ahead a full hour.
URL:https://villageofstanne.com/event/spring-ahead/
LOCATION:IL
CATEGORIES:General Information
END:VEVENT
BEGIN:VEVENT
DTSTART;TZID=UTC:20240301T170000
DTEND;TZID=UTC:20240301T190000
DTSTAMP:20260423T211924
CREATED:20240116T193028Z
LAST-MODIFIED:20240116T193028Z
UID:2143-1709312400-1709319600@villageofstanne.com
SUMMARY:Fish Fry
DESCRIPTION:St. Anne Catholic Church Fish Fry
URL:https://villageofstanne.com/event/fish-fry-2/
LOCATION:St. Anne Parish Hall\, 230 N Sixth Ave\, St. Anne\, IL\, 60964
END:VEVENT
BEGIN:VEVENT
DTSTART;TZID=UTC:20240219T000000
DTEND;TZID=UTC:20240219T000000
DTSTAMP:20260423T211924
CREATED:20240116T202431Z
LAST-MODIFIED:20240116T202431Z
UID:2158-1708300800-1708300800@villageofstanne.com
SUMMARY:Washington's Birthday
DESCRIPTION:
URL:https://villageofstanne.com/event/washingtons-birthday/
LOCATION:IL
END:VEVENT
BEGIN:VEVENT
DTSTART;TZID=UTC:20240216T170000
DTEND;TZID=UTC:20240216T190000
DTSTAMP:20260423T211924
CREATED:20240116T192645Z
LAST-MODIFIED:20240116T192742Z
UID:2140-1708102800-1708110000@villageofstanne.com
SUMMARY:Fish Fry
DESCRIPTION:St. Anne Catholic Church Fish Fry
URL:https://villageofstanne.com/event/fish-fry/
LOCATION:St. Anne Parish Hall\, 230 N Sixth Ave\, St. Anne\, IL\, 60964
END:VEVENT
BEGIN:VEVENT
DTSTART;TZID=UTC:20240214T000000
DTEND;TZID=UTC:20240214T000000
DTSTAMP:20260423T211924
CREATED:20240116T202429Z
LAST-MODIFIED:20240116T202429Z
UID:2157-1707868800-1707868800@villageofstanne.com
SUMMARY:Valentine's Day
DESCRIPTION:
URL:https://villageofstanne.com/event/valentines-day/
LOCATION:IL
END:VEVENT
BEGIN:VEVENT
DTSTART;TZID=UTC:20240212T180000
DTEND;TZID=UTC:20240212T200000
DTSTAMP:20260423T211924
CREATED:20240110T145738Z
LAST-MODIFIED:20240110T145738Z
UID:2097-1707760800-1707768000@villageofstanne.com
SUMMARY:Village Board Meeting
DESCRIPTION:
URL:https://villageofstanne.com/event/village-board-meeting-3/
LOCATION:IL
END:VEVENT
BEGIN:VEVENT
DTSTART;TZID=UTC:20240123T173000
DTEND;TZID=UTC:20240123T193000
DTSTAMP:20260423T211924
CREATED:20240122T194538Z
LAST-MODIFIED:20240122T195040Z
UID:2211-1706031000-1706038200@villageofstanne.com
SUMMARY:School Consolidation Town Hall Meeting
DESCRIPTION:
URL:https://villageofstanne.com/event/school-consolidation-meeting/
LOCATION:St. Annne Grade School\, 333 S St. Louis Ave\, St. Anne\, IL\, 60964\, United States
CATEGORIES:Meeting
END:VEVENT
BEGIN:VEVENT
DTSTART;TZID=UTC:20240115T000000
DTEND;TZID=UTC:20240115T000000
DTSTAMP:20260423T211924
CREATED:20240116T202428Z
LAST-MODIFIED:20240116T202428Z
UID:2156-1705276800-1705276800@villageofstanne.com
SUMMARY:Martin Luther King Jr. Day
DESCRIPTION:
URL:https://villageofstanne.com/event/martin-luther-king-jr-day/
LOCATION:IL
END:VEVENT
BEGIN:VEVENT
DTSTART;TZID=UTC:20240108T180000
DTEND;TZID=UTC:20240108T200000
DTSTAMP:20260423T211924
CREATED:20231213T151357Z
LAST-MODIFIED:20240110T172101Z
UID:2045-1704736800-1704744000@villageofstanne.com
SUMMARY:Village Board Meeting
DESCRIPTION:
URL:https://villageofstanne.com/event/village-board-meeting-2/
LOCATION:Village Hall\, 190 W Station St\, St. Anne\, IL\, 60964
CATEGORIES:Meeting
END:VEVENT
BEGIN:VEVENT
DTSTART;TZID=UTC:20240101T000000
DTEND;TZID=UTC:20240101T000000
DTSTAMP:20260423T211924
CREATED:20240116T202425Z
LAST-MODIFIED:20240116T202425Z
UID:2155-1704067200-1704067200@villageofstanne.com
SUMMARY:New Year's Day
DESCRIPTION:
URL:https://villageofstanne.com/event/new-years-day/
LOCATION:IL
END:VEVENT
BEGIN:VEVENT
DTSTART;VALUE=DATE:20231225
DTEND;VALUE=DATE:20231226
DTSTAMP:20260423T211924
CREATED:20231213T151823Z
LAST-MODIFIED:20231213T151823Z
UID:2053-1703462400-1703548799@villageofstanne.com
SUMMARY:Village Hall Closed
DESCRIPTION:
URL:https://villageofstanne.com/event/village-hall-closed-2/
LOCATION:IL
CATEGORIES:General Information
END:VEVENT
BEGIN:VEVENT
DTSTART;VALUE=DATE:20231225
DTEND;VALUE=DATE:20231226
DTSTAMP:20260423T211924
CREATED:20231213T151551Z
LAST-MODIFIED:20231213T151757Z
UID:2047-1703462400-1703548799@villageofstanne.com
SUMMARY:Christmas Day
DESCRIPTION:
URL:https://villageofstanne.com/event/village-hall-closed/
LOCATION:Village Hall\, 190 W Station St\, St. Anne\, IL\, 60964
CATEGORIES:General Information
END:VEVENT
END:VCALENDAR