BEGIN:VCALENDAR
VERSION:2.0
PRODID:-//Village of St. Anne, IL - ECPv6.15.17.1//NONSGML v1.0//EN
CALSCALE:GREGORIAN
METHOD:PUBLISH
X-ORIGINAL-URL:https://villageofstanne.com
X-WR-CALDESC:Events for Village of St. Anne, IL
REFRESH-INTERVAL;VALUE=DURATION:PT1H
X-Robots-Tag:noindex
X-PUBLISHED-TTL:PT1H
BEGIN:VTIMEZONE
TZID:UTC
BEGIN:STANDARD
TZOFFSETFROM:+0000
TZOFFSETTO:+0000
TZNAME:UTC
DTSTART:20230101T000000
END:STANDARD
END:VTIMEZONE
BEGIN:VEVENT
DTSTART;TZID=UTC:20240212T180000
DTEND;TZID=UTC:20240212T200000
DTSTAMP:20260425T180158
CREATED:20240110T145738Z
LAST-MODIFIED:20240110T145738Z
UID:2097-1707760800-1707768000@villageofstanne.com
SUMMARY:Village Board Meeting
DESCRIPTION:
URL:https://villageofstanne.com/event/village-board-meeting-3/
LOCATION:IL
END:VEVENT
BEGIN:VEVENT
DTSTART;TZID=UTC:20240214T000000
DTEND;TZID=UTC:20240214T000000
DTSTAMP:20260425T180158
CREATED:20240116T202429Z
LAST-MODIFIED:20240116T202429Z
UID:2157-1707868800-1707868800@villageofstanne.com
SUMMARY:Valentine's Day
DESCRIPTION:
URL:https://villageofstanne.com/event/valentines-day/
LOCATION:IL
END:VEVENT
BEGIN:VEVENT
DTSTART;TZID=UTC:20240216T170000
DTEND;TZID=UTC:20240216T190000
DTSTAMP:20260425T180158
CREATED:20240116T192645Z
LAST-MODIFIED:20240116T192742Z
UID:2140-1708102800-1708110000@villageofstanne.com
SUMMARY:Fish Fry
DESCRIPTION:St. Anne Catholic Church Fish Fry
URL:https://villageofstanne.com/event/fish-fry/
LOCATION:St. Anne Parish Hall\, 230 N Sixth Ave\, St. Anne\, IL\, 60964
END:VEVENT
BEGIN:VEVENT
DTSTART;TZID=UTC:20240219T000000
DTEND;TZID=UTC:20240219T000000
DTSTAMP:20260425T180158
CREATED:20240116T202431Z
LAST-MODIFIED:20240116T202431Z
UID:2158-1708300800-1708300800@villageofstanne.com
SUMMARY:Washington's Birthday
DESCRIPTION:
URL:https://villageofstanne.com/event/washingtons-birthday/
LOCATION:IL
END:VEVENT
END:VCALENDAR